BEGIN:VCALENDAR
VERSION:2.0
PRODID:-//Security Institute - ECPv6.8.3//NONSGML v1.0//EN
CALSCALE:GREGORIAN
METHOD:PUBLISH
X-WR-CALNAME:Security Institute
X-ORIGINAL-URL:https://securityinstitute-website-staging.wearedelta.co
X-WR-CALDESC:Events for Security Institute
REFRESH-INTERVAL;VALUE=DURATION:PT1H
X-Robots-Tag:noindex
X-PUBLISHED-TTL:PT1H
BEGIN:VTIMEZONE
TZID:UTC
BEGIN:STANDARD
TZOFFSETFROM:+0000
TZOFFSETTO:+0000
TZNAME:UTC
DTSTART:20250101T000000
END:STANDARD
END:VTIMEZONE
BEGIN:VEVENT
DTSTART;TZID=UTC:20251120T183000
DTEND;TZID=UTC:20251121T000000
DTSTAMP:20260420T010855
CREATED:20250211T133939Z
LAST-MODIFIED:20250214T120034Z
UID:53712-1763663400-1763683200@securityinstitute-website-staging.wearedelta.co
SUMMARY:The Security Institute 25th Anniversary Gala & Awards
DESCRIPTION:Date: 20th of November 2025 \nLocation: Central London \nJoin us for a spectacular evening as we celebrate 25 years of excellence\, innovation\, and leadership in security. The Security Institute 25th Anniversary Gala & Awards promises to be an unforgettable occasion\, bringing together industry professionals\, thought leaders\, and esteemed guests for an evening of recognition\, networking\, and celebration. \nHeld in an elegant setting\, the event will honour the achievements of individuals and organisations shaping the future of security. With a prestigious awards ceremony\, fine dining\, and live entertainment\, this milestone gathering is not to be missed. \nFurther agenda details and tickets available soon!
URL:https://securityinstitute-website-staging.wearedelta.co/company-event/the-security-institute-25th-anniversary-gala-awards/
LOCATION:Lanarkshire
CATEGORIES:In Person Events,Security Institute Events
ATTACH;FMTTYPE=image/png:https://securityinstitute-website-staging.wearedelta.co/wp-content/uploads/2025/02/Sec-Inst-Awards-30-11-21-016.png
END:VEVENT
BEGIN:VEVENT
DTSTART;TZID=UTC:20251015T090000
DTEND;TZID=UTC:20251015T170000
DTSTAMP:20260420T010855
CREATED:20250211T133301Z
LAST-MODIFIED:20250211T140200Z
UID:53702-1760518800-1760547600@securityinstitute-website-staging.wearedelta.co
SUMMARY:The Security Institute Annual Conference 2025
DESCRIPTION:Date: October 2025 \nLocation: Central London \nFollowing the success of last year’s event\, The Security Institute is proud to host the Annual Conference 2025\, bringing together the best and brightest minds in the security sector. This year’s conference will provide a vital platform to reflect on key developments\, emerging threats\, and the evolving security landscape of 2025. \nJoin industry leaders\, experts\, and professionals for a day of insightful discussions\, cutting-edge presentations\, and valuable networking opportunities. Stay ahead of the curve and be part of the conversations shaping the future of security. \nFurther agenda details and tickets available soon!
URL:https://securityinstitute-website-staging.wearedelta.co/company-event/the-security-institute-annual-conference-2025/
LOCATION:Lanarkshire
CATEGORIES:In Person Events,Security Institute Events
ATTACH;FMTTYPE=image/png:https://securityinstitute-website-staging.wearedelta.co/wp-content/uploads/2024/12/HRH-at-Conference-e1741014996529.png
END:VEVENT
BEGIN:VEVENT
DTSTART;TZID=UTC:20250916T090000
DTEND;TZID=UTC:20250916T170000
DTSTAMP:20260420T010855
CREATED:20250228T144130Z
LAST-MODIFIED:20250302T200907Z
UID:54350-1758013200-1758042000@securityinstitute-website-staging.wearedelta.co
SUMMARY:Insider Risk Conference 2025
DESCRIPTION:Date: 16th of September 2025 \nLocation: Glasgow Caledonian University \nThe Security Institute is committed to supporting and promoting the work of its members through its Special Interest Groups (SIGs). The Insider Risk SIG has been collaborating with partners\, including SecuriGroup and Glasgow Caledonian University\, to host an Insider Risk Conference in Glasgow on 16th September 2025. \nHeld in the stunning Lantern Room conference suite at Glasgow Caledonian University\, this event is open to members and partners. Expert speakers will cover key topics such as non-malicious insider risks\, espionage in academia\, deliberate insider activity\, and insider threats within policing. The event will conclude with a panel discussion\, offering delegates the chance to engage directly with the speakers. \nFurther agenda details and tickets available soon!
URL:https://securityinstitute-website-staging.wearedelta.co/company-event/insider-risk-conference-2025/
LOCATION:Glasgow Caledonian University\, Cowcaddens Road\, Glasgow\, Lanarkshire\, G4 0BA
CATEGORIES:In Person Events,Security Institute Events
ATTACH;FMTTYPE=image/jpeg:https://securityinstitute-website-staging.wearedelta.co/wp-content/uploads/2025/02/Annie-Lennox-Foyer-Conferences-and-events_22438-scaled.jpg
END:VEVENT
BEGIN:VEVENT
DTSTART;TZID=UTC:20250708T130000
DTEND;TZID=UTC:20250708T170000
DTSTAMP:20260420T010855
CREATED:20250211T122502Z
LAST-MODIFIED:20250213T123625Z
UID:53699-1751979600-1751994000@securityinstitute-website-staging.wearedelta.co
SUMMARY:Annual General Meeting (AGM) 2025
DESCRIPTION:Date: Tuesday the 8th of July 2025 \nLocation: Victory Services Club\, 63-79 Seymour St\, Tyburnia\, London W2 2HF \nOur Annual General Meeting (AGM) returns this summer\, bringing together members for an essential update on the Institute’s progress\, future initiatives\, and key developments within the security sector. \nThis year\, members will also have the important responsibility of voting for new directors\, shaping the leadership and direction of the Institute. With a packed agenda and some special surprises in store\, this is a fantastic opportunity to engage with fellow members\, hear from Institute leaders\, and play a key role in our future. \nStay tuned for more details—this is one event you won’t want to miss! \nFurther agenda details and tickets available soon!
URL:https://securityinstitute-website-staging.wearedelta.co/company-event/agm-2025/
LOCATION:Victory Services Club\, Victory Services Club\, 63-79 Seymour St\, Tyburnia\, London\, Greater London\, W2 2HF
CATEGORIES:In Person Events,Security Institute Events
ATTACH;FMTTYPE=image/png:https://securityinstitute-website-staging.wearedelta.co/wp-content/uploads/2025/02/conference-sessions-094-e1741016724339.png
END:VEVENT
BEGIN:VEVENT
DTSTART;TZID=UTC:20250623T090000
DTEND;TZID=UTC:20250623T170000
DTSTAMP:20260420T010855
CREATED:20250211T121350Z
LAST-MODIFIED:20250213T123825Z
UID:53695-1750669200-1750698000@securityinstitute-website-staging.wearedelta.co
SUMMARY:Young People's Skill Building Event 2025
DESCRIPTION:Date: Monday the 23rd of June 2025 \nLocation: Topstones\, Sludge Hall Hill\, Leicester LE7 9FH \nAfter the fantastic success of last year’s inaugural event\, the Young People’s Skill Building Event returns for 2025—bigger and better than ever! \nPacked with exciting challenges\, interactive games\, puzzles\, and fantastic prizes\, this event is designed to inspire and equip the next generation as they take their first steps into the world of security. Whether you’re looking to develop new skills\, test your problem-solving abilities\, or simply have fun while learning\, this is an unmissable opportunity. \nFurther agenda details available soon!
URL:https://securityinstitute-website-staging.wearedelta.co/company-event/ypsbe-2025/
LOCATION:Topstones\, Sludge Hall Hill\, Leicester\, Leicestershire\, LE7 9FH
CATEGORIES:In Person Events,Security Institute Events
ATTACH;FMTTYPE=image/png:https://securityinstitute-website-staging.wearedelta.co/wp-content/uploads/2025/02/The-Security-Institute-Youth-Skills-Day-307-e1741016711375.png
END:VEVENT
BEGIN:VEVENT
DTSTART;TZID=UTC:20250508T100000
DTEND;TZID=UTC:20250508T110000
DTSTAMP:20260420T010855
CREATED:20250226T083907Z
LAST-MODIFIED:20250228T082035Z
UID:54118-1746698400-1746702000@securityinstitute-website-staging.wearedelta.co
SUMMARY:INSIDER RISK SIG Webinar: Disrupting Insiders
DESCRIPTION:🗓 Date: Thursday 8th May 2025 \n⏰Time: 10:00 -11:00 \nThe Security Institute Insider Risk Special Interest Group (IRSIG) is back with an exciting new webinar designed to help organisations tackle one of the most complex security challenges—insider threats. \nJoin Dr. David BaMaung as he introduces an HM Government personnel and people security expert and Visiting Professor at Coventry University for an in-depth presentation followed by a Q&A on how insiders think\, feel\, operate\, and plan before committing a malicious act. \nUnderstanding these behaviours is key to detecting\, deterring\, and disrupting insider threats before they cause harm. By recognising the warning signs and motivations behind insider activity\, organisations can take proactive steps to limit their ability to act and prevent security breaches. \nWhat You’ll Learn:\n✅ How insider threats develop—and how to disrupt them early✅ Strategies for limiting an insider’s ability to carry out malicious acts✅ How counterterrorism techniques can be adapted to tackle insider risk✅ A fresh perspective on viewing adversaries as individuals with hostile intent\, rather than focusing solely on ideology or motivation \nThis thought-provoking session is essential for security professionals\, risk managers\, HR leaders\, and anyone responsible for protecting their organisation from internal threats. \n🔔 Don’t miss this vital opportunity to stay ahead of evolving security risks. Register now to gain expert insights and strengthen your organisation’s insider threat defences! \n 
URL:https://securityinstitute-website-staging.wearedelta.co/company-event/irsig-disrupting-insiders/
LOCATION:Lanarkshire
CATEGORIES:Security Institute Events,Webinars
ATTACH;FMTTYPE=image/png:https://securityinstitute-website-staging.wearedelta.co/wp-content/uploads/2025/02/IRSIG2-e1741015511247.png
END:VEVENT
BEGIN:VEVENT
DTSTART;TZID=UTC:20250415T120000
DTEND;TZID=UTC:20250415T130000
DTSTAMP:20260420T010855
CREATED:20250225T152846Z
LAST-MODIFIED:20250226T084017Z
UID:54112-1744718400-1744722000@securityinstitute-website-staging.wearedelta.co
SUMMARY:Cyber SIG Webinar: Human First Cyber Security
DESCRIPTION:🗓 Date: Tuesday 15th April 2025 \n⏰Time: 12:00 -13:00 GMT \nThe Security Institute’s Cyber Special Interest Group invites you to another insightful and engaging webinar that puts people at the centre of cybersecurity. \nIn this must-attend session\, James Bore CSyP MSyI and special guest Sarah Aalborg\, Chief Information Security Officer (CISO) at Tivoli and author of Secure by Choice\, will explore the fundamental truth that cybersecurity—like all security—is ultimately about people first\, and technology second. \nTechnology plays a crucial role in keeping systems secure\, but at the heart of every cyber strategy\, policy\, and response is the human factor. Understanding how people interact with security measures is essential for building stronger\, more resilient defenses. \nWhy Attend?\n✅ Gain expert insights from top industry professionals✅ Learn why a human-first approach is key to cybersecurity success✅ Discover practical strategies to enhance security awareness in your organization✅ Engage in a live discussion and ask your burning cybersecurity questions \nThis exclusive live event is packed with valuable knowledge that will benefit professionals across all industries—whether you’re a cybersecurity expert\, IT professional\, or simply interested in learning how security impacts everyday digital life. \nDon’t miss out! Secure your spot today and be part of this important conversation. \n 
URL:https://securityinstitute-website-staging.wearedelta.co/company-event/cysig-human-first-cyber-security/
LOCATION:Lanarkshire
CATEGORIES:Security Institute Events,Webinars
ATTACH;FMTTYPE=image/png:https://securityinstitute-website-staging.wearedelta.co/wp-content/uploads/2025/02/Cyber-Human-First-e1741016662161.png
END:VEVENT
BEGIN:VEVENT
DTSTART;TZID=UTC:20250408T090000
DTEND;TZID=UTC:20250410T170000
DTSTAMP:20260420T010855
CREATED:20250128T112549Z
LAST-MODIFIED:20250211T133513Z
UID:53332-1744102800-1744304400@securityinstitute-website-staging.wearedelta.co
SUMMARY:The Security Event 2025
DESCRIPTION:Date: Tuesday 8th – Thursday 10th of April 2025 \nLocation: NEC Birmingham \nThe Security Event\, Europe’s premier commercial\, enterprise\, and domestic security exhibition\, is set to return to the NEC Birmingham from 8th to 10th April 2025. Tailored by the industry for the industry\, this event reunites manufacturers\, distributors\, installers\, integrators\, consultants\, and end users. \nAttendees will have the opportunity to: \n\nExplore over 450 leading global manufacturers\, suppliers\, and service providers\, showcasing more than 10\,000 innovative products and solutions.\nEngage in a comprehensive\, free-to-attend CPD-accredited education programme featuring the latest developments\, case studies\, and workshops delivered by industry experts.\nNetwork with over 16\,500 security professionals through various initiatives and after-hours events designed to foster key relationships within the security community.\n\nDon’t miss this unparalleled opportunity to stay abreast of the latest advancements in security technology and practices. Join us at The Security Event 2025 to connect with key experts and ensure you’re equipped to meet your security project requirements.
URL:https://securityinstitute-website-staging.wearedelta.co/company-event/the-security-event/
LOCATION:NEC Birmingham\, Pendigo Way\, Marston Green\, Birmingham\, West Midlands\, B40 1NT\, United Kingdom
CATEGORIES:Partner Events
ATTACH;FMTTYPE=image/png:https://securityinstitute-website-staging.wearedelta.co/wp-content/uploads/2025/01/TSE-1-e1741016773771.png
END:VEVENT
BEGIN:VEVENT
DTSTART;TZID=UTC:20250327T090000
DTEND;TZID=UTC:20250327T170000
DTSTAMP:20260420T010855
CREATED:20250219T133539Z
LAST-MODIFIED:20250221T101432Z
UID:53991-1743066000-1743094800@securityinstitute-website-staging.wearedelta.co
SUMMARY:Retail Risk London
DESCRIPTION:Date: Thursday 27th of March 2025 \nLocation: Novotel London West \nCome and join the Security Institute and Travis Perkins at Stand 7 during Retail Risk London! \nRetail Risk London is the UK’s leading conference dedicated to tackling retail crime and protecting businesses both online and in-store.  \nAs part of the world’s most well-attended conference series for risk and loss prevention professionals\, it brings together experts from across the industry\, including retailers\, academics\, and law enforcement. \nThe event offers valuable insights into the latest challenges and innovations in fraud prevention\, shrink reduction\, and security. With keynote presentations\, panel discussions\, and networking opportunities\, Retail Risk London is an essential event for those looking to strengthen their risk management strategies. \nJoin the Security Institute and Travis Perkins\, at Retail Risk London\, where we’ll be sharing expert insights on Converged Protective Security. Don’t miss this chance to learn from industry leaders and enhance your risk management strategy. \nLearn more at the Retail Risk event website.
URL:https://securityinstitute-website-staging.wearedelta.co/company-event/retail-risk-london/
LOCATION:Novotel London West\, Novotel London West One Shortlands\, London\, Greater London\, W6 8DR\, United Kingdom
CATEGORIES:Partner Events
ATTACH;FMTTYPE=image/png:https://securityinstitute-website-staging.wearedelta.co/wp-content/uploads/2025/02/RetailRisk20246985.png
END:VEVENT
BEGIN:VEVENT
DTSTART;TZID=UTC:20250318T100000
DTEND;TZID=UTC:20250318T110000
DTSTAMP:20260420T010855
CREATED:20250214T101214Z
LAST-MODIFIED:20250226T084126Z
UID:53801-1742292000-1742295600@securityinstitute-website-staging.wearedelta.co
SUMMARY:INSIDER RISK SIG Webinar: Vulnerable employees or insider risks?
DESCRIPTION:🗓 Date: Wednesday 18th March 2025 \n⏰Time: 10:00 – 11:00 GMT \nJoin us to gain valuable insights into discussing the issue of vulnerable employees and the role that their organisation can play in managing and resolving both personal and organisational problems arising to help avoid any conscious or unconscious action that may lead to or be considered an insider risk. \nWe are pleased to introduce Dr David BaMaung\, a security consultant with nearly 40 years of experience in law enforcement. With a decade dedicated to counter-terrorism protective security and insider risk mitigation\, David has worked with Interpol\, Airpol\, and OSCE. He was also appointed as a Security Expert for the Manchester Arena Public Inquiry. \nJoining him is Irene Mains\, Head of Department & Senior Lecturer in HRM/HRD at GCU. With a wealth of experience in HR development and organizational change\, Irene specializes in leadership development\, coaching\, and mentoring. Her academic expertise and research provide valuable insights into how organizations can support employees while mitigating risk. \n 
URL:https://securityinstitute-website-staging.wearedelta.co/company-event/insider-risk-sig-webinar-vulnerable-employees-or-insider-risks/
LOCATION:Lanarkshire
CATEGORIES:Security Institute Events,Webinars
ATTACH;FMTTYPE=image/png:https://securityinstitute-website-staging.wearedelta.co/wp-content/uploads/2024/12/IRSIG-e1741015526313.png
END:VEVENT
BEGIN:VEVENT
DTSTART;TZID=UTC:20250312T090000
DTEND;TZID=UTC:20250313T170000
DTSTAMP:20260420T010855
CREATED:20241213T170600Z
LAST-MODIFIED:20250211T133524Z
UID:51570-1741770000-1741885200@securityinstitute-website-staging.wearedelta.co
SUMMARY:Cloud & Cyber Security Expo London 2025
DESCRIPTION:Date: Wednesday 12th – Thursday 13th of March 2025 \nLocation: ExCeL London \nIn today’s ever-more complex threat landscape\, a zero trust security model is a necessity. Discover the latest zero trust principles\, architectures and solutions at Cloud & Cyber Security Expo\, where you can find solutions for data\, network security and application security. Join The Security Institute at this exceptional event and learn how industry leaders are implementing zero trust strategies to safeguard their organisations.
URL:https://securityinstitute-website-staging.wearedelta.co/company-event/cloud-cyber-security-expo-london/
LOCATION:ExCeL\, ExCeL London Royal Victoria Dock\, London\, Greater London\, E16 1XL
CATEGORIES:Partner Events
ATTACH;FMTTYPE=image/png:https://securityinstitute-website-staging.wearedelta.co/wp-content/uploads/2024/12/Cyber-Cloud-e1741014916819.png
END:VEVENT
BEGIN:VEVENT
DTSTART;TZID=UTC:20250311T090000
DTEND;TZID=UTC:20250313T170000
DTSTAMP:20260420T010855
CREATED:20241213T163446Z
LAST-MODIFIED:20250211T133534Z
UID:51566-1741683600-1741885200@securityinstitute-website-staging.wearedelta.co
SUMMARY:Security & Policing Home Office Event 2025
DESCRIPTION:Date: Tuesday 11th – Thursday 13th of March 2025 \nLocation: Farnborough International Exhibition and Conference Centre \nSecurity & Policing\, the official UK Government global security event\, returns to the Farnborough International Exhibition and Conference Centre between 11-13 March 2025. Hosted by the Home Office’s Joint Security & Resilience Centre (JSaRC)\, Security & Policing offers a world‐class opportunity to meet and discuss the latest advances in delivering national security and resilience with leading UK suppliers\, UK and overseas Government officials and senior decision makers across the law enforcement and security sectors. There is no general admittance to Security & Policing and all visitors and exhibitors are subject to Home Office approval.
URL:https://securityinstitute-website-staging.wearedelta.co/company-event/security-policing-home-office-event/
LOCATION:Farnborough International Exhibition and Conference Centre\, ShowCentre\, Etps Rd\, Farnborough\, Hampshire\, GU14 6TQ\, United Kingdom
CATEGORIES:Partner Events
ATTACH;FMTTYPE=image/png:https://securityinstitute-website-staging.wearedelta.co/wp-content/uploads/2024/12/Security-Policing-e1741015438872.png
END:VEVENT
BEGIN:VEVENT
DTSTART;TZID=UTC:20250305T090000
DTEND;TZID=UTC:20250305T170000
DTSTAMP:20260420T010855
CREATED:20241217T100607Z
LAST-MODIFIED:20250227T151454Z
UID:52035-1741165200-1741194000@securityinstitute-website-staging.wearedelta.co
SUMMARY:Celebrating and Elevating Women in Security Conference 2025
DESCRIPTION:Date: Wednesday 5th of March 2025 \nLocation: Goodenough House\, London House Mecklenburgh Square\, London WC1N 2AB \nMark your calendars for the first Celebrating and Elevating Women in Security Conference\, scheduled for 5th March to align with International Women’s Day. This pivotal event will spotlight the unique experiences\, challenges\, and contributions of women in the security sector—a field historically dominated by men. \nWomen in security often navigate systemic barriers and cultural biases\, making their achievements all the more remarkable. This conference aims to bring these stories to the forefront\, providing an empowering platform to exchange ideas\, celebrate progress\, and foster solidarity. \nAttendees can look forward to hearing from an inspiring lineup of experienced professionals—both female and male—who will share their insights into the evolving landscape of the security industry. Through their expertise\, they’ll explore the strides made in recent years and the challenges that remain\, highlighting actionable steps for driving inclusivity and innovation in the 21st century. \nJoin us for this transformative event\, where we honour the resilience and ingenuity of women in security\, inspire the next generation of leaders\, and champion a more equitable future for all. \nBook Now! \n  \nFULL AGENDA: \nRegistration & Refreshments\n09:00 \nWelcome & Introduction \nProfessor Simon Hepburn MA MCMI FRSA\, CEO of The Security Institute \nRachel Webb CSyP MSyI\, Managing Director of The Keyholding Company\, Compère \n09:30 \nChair’s Opening Address \nJulie Nel MA FSyI & Sarah Austerberry CSyP FSyI MLitt\nChair & Vice Chair of The Security Institute \n09:40 \nKeynote: The Importance of a Convergence Approach to Security\nGovernment Representative \n10:00 \nPanel: Excelling in Government Security \nSarah Austerberry CSyP FSyI MLitt\, Moderator\nGovernment Representative\nNPSA Representative\nStuart Frost BEM FSyI\, HM Government \n10:20 \nKeynote: Securing the Future \nJane Frankland MBE\, CEO of Knewstart \n11:00 \nRefreshments\, Networking & Exhibition \n11:30 \nKeynote: The Expanding Role of the Regulator \nMichelle Russell\, CEO of the Security Industry Authority (SIA) \n12:00 \nPanel: Increasing Diversity in Security \nKate Davies OBE\, HM Government\nMichelle Russell\, CEO of the SIA\nKate Bright CSyP FRSA\,\, UMBRA International\nLydia Walmsley\, Motorsports Professional \n12:20 \nBuffet Lunch\, Networking & Exhibition \n13:00 \nPanel: Developing the Next Generation of Security Professionals \nOliver Lacey PSP\, Chair of the Young Members Group\, Moderator\nMichael Coppard\, Surelock McGill\nJasmine Palmer-Garrick\, LMS\nStacey Snook\, Coventry University Protective Security Lab \n14:00 \nPanel: Safeguarding Women & Girls – International Perspective \nJulie Nel MA FSyI\, Moderator\nAnne Marie Chebib BA (Hons) PGDip\, Select Security and Stewarding Ltd\nEmma Hardy\, Internet Watch Foundation (IWF)\nIwona Kossek\, Ask for Angela CIC \n14:40 \nThe Security Institute Announcement \nProfessor Simon Hepburn MA MCMI FRSA \n15:10 \nRefreshments\, Networking & Exhibition \n15:30 \nKeynote: Cyber: New Challenges \nJames Bore CSyP MSyI\,\nManaging Director of Bores Group Ltd \n16:00 \nPanel: Securing Your Organisation \nHayley Elvins CSyP FSyI\, Sloan Risk Group\, Moderator\nSarah Austerberry CSyP FSyI MLitt\, AU Security Consulting Ltd\nChris Stevens CSyP MSc F.ISRM FSyI\, SIDOS\nBrindha McDonald MSyI M.ISRM\, Bank of England \n16:20 \nConference Concludes \n17:00
URL:https://securityinstitute-website-staging.wearedelta.co/company-event/women-in-security-conference/
LOCATION:Goodenough House\, Goodenough House\, London House Mecklenburgh Square\, London\, Greater London\, WC1N 2AB
CATEGORIES:In Person Events,Security Institute Events
ATTACH;FMTTYPE=image/png:https://securityinstitute-website-staging.wearedelta.co/wp-content/uploads/2024/12/Women-In-Security-Conference4.png
END:VEVENT
BEGIN:VEVENT
DTSTART;TZID=UTC:20250303T140000
DTEND;TZID=UTC:20250303T150000
DTSTAMP:20260420T010855
CREATED:20250217T090359Z
LAST-MODIFIED:20250217T091043Z
UID:53846-1741010400-1741014000@securityinstitute-website-staging.wearedelta.co
SUMMARY:New Guidance on the National Security Act 2023 - Home Office & Security Institute Panel
DESCRIPTION:Date: Monday\, 3rd March 2025 \nTime: 14:00 – 15:00 \nThe UK Home Office has released new guidance on the National Security Act 2023 to assist the security industry in understanding how to protect itself from approaches by state actors or those acting on their behalf. \nTo explore this guidance in depth\, The Security Institute\, in collaboration with the Home Office and the Register for Security Engineers and Specialists (RSES)\, is hosting a panel discussion. This event will provide security professionals with valuable insights and expert advice on the implications of the new guidance. \nThis session will include an opportunity for attendees to ask questions and gain a thorough understanding of the National Security Act 2023. \nModerators\n\nProfessor Simon Hepburn\, Chief Executive Officer\, The Security Institute\nMike Bluestone\, Registrar for CSyP\n\nSpeakers\n\nEdward Bolton\, Home Office\nEdward Bolton is a senior civil servant at the Home Office with over ten years of experience in various policy areas. His expertise includes strategy\, policy\, and operational delivery.\nChris Stevens\, The Security Institute\nChris Stevens is a Board Director of The Security Institute and the Supporting Director in the Counter Terrorism and Built Environment Special Interest Groups. With over twenty years of public service experience\, he is a highly regarded Specialist Security and Risk Director at an award-winning consultancy.\nDavid Cormie\, Register of Security Engineers and Specialists\nDavid Cormie is Director of Resilience\, Security and Risk at Arup\, assisting clients in mitigating risk and building resilience against both hostile and accidental threats. He serves as Vice Chair of the Register of Security Engineers and Specialists and is a principal member of the Register in areas including blast effects\, hostile vehicle mitigation\, and security design.\n\nAccess the new guidance here to ensure compliance with the law. \nStay informed about our latest updates and plans for 2025 by joining The Security Institute’s community on LinkedIn. \n  \n 
URL:https://securityinstitute-website-staging.wearedelta.co/company-event/new-guidance-on-the-national-security-act-2023-home-office-security-institute-panel/
LOCATION:Lanarkshire
CATEGORIES:Security Institute Events,Webinars
ATTACH;FMTTYPE=image/jpeg:https://securityinstitute-website-staging.wearedelta.co/wp-content/uploads/2025/02/1024px-Marsham_Street.jpg
END:VEVENT
BEGIN:VEVENT
DTSTART;TZID=UTC:20250227T120000
DTEND;TZID=UTC:20250227T130000
DTSTAMP:20260420T010855
CREATED:20250128T090244Z
LAST-MODIFIED:20250226T084106Z
UID:53314-1740657600-1740661200@securityinstitute-website-staging.wearedelta.co
SUMMARY:Cyber SIG Webinar: What is This Cyber Thing Really?
DESCRIPTION:🗓 Date: Thursday 27th February 2025 \n⏰Time: 12:00 -13:00 GMT \nJoin us for an engaging panel discussion that delves into the fundamentals of cybersecurity and explores practical ways to launch and grow a career in this dynamic field. \nOur panel features three accomplished professionals with diverse expertise in cybersecurity. Clare Johnson\, PhD FBCS\, is the Head of Capability at ITSUS Consulting\, where she leads the company’s cybersecurity services. She is also the founder of Women in Cyber Unlimited and an advocate for enhancing skills and diversity in the sector. Graeme Moss heads the Cyber Security Architecture\, Consulting\, and Engineering team at the University of Leeds\, providing security advice across university projects. Beyond his role\, Graeme dedicates much of his time to organising community cybersecurity events such as BSides conferences and supporting hacker and privacy organisations in Northern England. James Bore CSyP MSyI\, is a cybersecurity expert and Managing Director of Bores Group Ltd\, with over 20 years of experience. He holds an MSc in Cyber Security\, authored The Cyber Circuit\, and is a regular speaker at international events like GISEC and NEOM Cityscape Global. \nThe discussion will be moderated by Prof. Simon Hepburn MA MCMI FRSA\, who will guide the conversation on key topics such as understanding the fundamentals of cybersecurity\, identifying essential skills for success\, and exploring pathways to enter the profession. Each panelist will share their knowledge\, experiences\, and practical tips to help attendees navigate this fast-growing industry. \nThis session is perfect for anyone curious about cybersecurity or eager to pursue a career in this exciting and essential field. Don’t miss the chance to hear from industry leaders\, gain valuable advice\, and get your questions answered.
URL:https://securityinstitute-website-staging.wearedelta.co/company-event/cyber-sig-webinar-what-is-this-cyber-thing-really/
LOCATION:Lanarkshire
CATEGORIES:Security Institute Events,Webinars
ATTACH;FMTTYPE=image/png:https://securityinstitute-website-staging.wearedelta.co/wp-content/uploads/2025/01/CYSIG1-e1741015576970.png
END:VEVENT
END:VCALENDAR