BEGIN:VCALENDAR
VERSION:2.0
PRODID:-//Security Institute - ECPv6.8.3//NONSGML v1.0//EN
CALSCALE:GREGORIAN
METHOD:PUBLISH
X-WR-CALNAME:Security Institute
X-ORIGINAL-URL:https://securityinstitute-website-staging.wearedelta.co
X-WR-CALDESC:Events for Security Institute
REFRESH-INTERVAL;VALUE=DURATION:PT1H
X-Robots-Tag:noindex
X-PUBLISHED-TTL:PT1H
BEGIN:VTIMEZONE
TZID:UTC
BEGIN:STANDARD
TZOFFSETFROM:+0000
TZOFFSETTO:+0000
TZNAME:UTC
DTSTART:20250101T000000
END:STANDARD
END:VTIMEZONE
BEGIN:VEVENT
DTSTART;TZID=UTC:20250708T130000
DTEND;TZID=UTC:20250708T170000
DTSTAMP:20260425T115852
CREATED:20250211T122502Z
LAST-MODIFIED:20250213T123625Z
UID:53699-1751979600-1751994000@securityinstitute-website-staging.wearedelta.co
SUMMARY:Annual General Meeting (AGM) 2025
DESCRIPTION:Date: Tuesday the 8th of July 2025 \nLocation: Victory Services Club\, 63-79 Seymour St\, Tyburnia\, London W2 2HF \nOur Annual General Meeting (AGM) returns this summer\, bringing together members for an essential update on the Institute’s progress\, future initiatives\, and key developments within the security sector. \nThis year\, members will also have the important responsibility of voting for new directors\, shaping the leadership and direction of the Institute. With a packed agenda and some special surprises in store\, this is a fantastic opportunity to engage with fellow members\, hear from Institute leaders\, and play a key role in our future. \nStay tuned for more details—this is one event you won’t want to miss! \nFurther agenda details and tickets available soon!
URL:https://securityinstitute-website-staging.wearedelta.co/company-event/agm-2025/
LOCATION:Victory Services Club\, Victory Services Club\, 63-79 Seymour St\, Tyburnia\, London\, Greater London\, W2 2HF
CATEGORIES:In Person Events,Security Institute Events
ATTACH;FMTTYPE=image/png:https://securityinstitute-website-staging.wearedelta.co/wp-content/uploads/2025/02/conference-sessions-094-e1741016724339.png
END:VEVENT
END:VCALENDAR